Package: MsExperiment Version: 1.6.0 Command: E:\biocbuild\bbs-3.19-bioc\R\bin\R.exe CMD check --no-multiarch --install=check:MsExperiment.install-out.txt --library=E:\biocbuild\bbs-3.19-bioc\R\library --no-vignettes --timings MsExperiment_1.6.0.tar.gz StartedAt: 2024-10-17 03:40:14 -0400 (Thu, 17 Oct 2024) EndedAt: 2024-10-17 03:47:13 -0400 (Thu, 17 Oct 2024) EllapsedTime: 418.5 seconds RetCode: 0 Status: WARNINGS CheckDir: MsExperiment.Rcheck Warnings: 1