Package: MsExperiment Version: 1.6.0 Command: chmod a+r MsExperiment -R && E:\biocbuild\bbs-3.19-bioc\R\bin\R.exe CMD build --keep-empty-dirs --no-resave-data MsExperiment StartedAt: 2024-10-16 20:30:49 -0400 (Wed, 16 Oct 2024) EndedAt: 2024-10-16 20:33:01 -0400 (Wed, 16 Oct 2024) EllapsedTime: 132.3 seconds RetCode: 0 Status: OK PackageFile: MsExperiment_1.6.0.tar.gz PackageFileSize: 1.882 MiB