Package: MsExperiment Version: 1.6.0 Command: rm -rf MsExperiment.buildbin-libdir && mkdir MsExperiment.buildbin-libdir && E:\biocbuild\bbs-3.19-bioc\R\bin\R.exe CMD INSTALL --build --library=MsExperiment.buildbin-libdir MsExperiment_1.6.0.tar.gz StartedAt: 2024-10-17 08:11:58 -0400 (Thu, 17 Oct 2024) EndedAt: 2024-10-17 08:12:49 -0400 (Thu, 17 Oct 2024) EllapsedTime: 51.0 seconds RetCode: 0 Status: OK PackageFile: MsExperiment_1.6.0.zip PackageFileSize: 1.453 MiB