Package: MsExperiment Version: 1.6.0 Command: F:\biocbuild\bbs-3.19-bioc\R\bin\R.exe CMD check --no-multiarch --install=check:MsExperiment.install-out.txt --library=F:\biocbuild\bbs-3.19-bioc\R\library --no-vignettes --timings MsExperiment_1.6.0.tar.gz StartedAt: 2024-06-27 03:55:46 -0400 (Thu, 27 Jun 2024) EndedAt: 2024-06-27 04:03:10 -0400 (Thu, 27 Jun 2024) EllapsedTime: 444.5 seconds RetCode: 0 Status: WARNINGS CheckDir: MsExperiment.Rcheck Warnings: 1