Package: MsExperiment Version: 1.6.0 Command: /home/biocbuild/R/R-beta-2024-04-15_r86425/bin/R CMD build --keep-empty-dirs --no-resave-data MsExperiment StartedAt: 2024-05-09 01:55:42 -0000 (Thu, 09 May 2024) EndedAt: 2024-05-09 01:56:52 -0000 (Thu, 09 May 2024) EllapsedTime: 69.1 seconds RetCode: 1 Status: ERROR PackageFile: None PackageFileSize: NA