Package: MsExperiment Version: 1.6.0 Command: /Library/Frameworks/R.framework/Resources/bin/R CMD INSTALL MsExperiment StartedAt: 2024-10-16 17:27:26 -0400 (Wed, 16 Oct 2024) EndedAt: 2024-10-16 17:28:02 -0400 (Wed, 16 Oct 2024) EllapsedTime: 36.3 seconds RetCode: 0 Status: OK