Package: MsExperiment Version: 1.6.0 Command: /Library/Frameworks/R.framework/Resources/bin/R CMD build --keep-empty-dirs --no-resave-data MsExperiment StartedAt: 2024-10-17 05:08:04 -0400 (Thu, 17 Oct 2024) EndedAt: 2024-10-17 05:09:35 -0400 (Thu, 17 Oct 2024) EllapsedTime: 91.0 seconds RetCode: 0 Status: OK PackageFile: MsExperiment_1.6.0.tar.gz PackageFileSize: 1.89 MiB