Package: MsDataHub Version: 1.4.0 Command: rm -rf MsDataHub.buildbin-libdir && mkdir MsDataHub.buildbin-libdir && /Users/biocbuild/BBS/utils/build-universal.sh MsDataHub_1.4.0.tar.gz /Library/Frameworks/R.framework/Resources/bin/R MsDataHub.buildbin-libdir StartedAt: 2024-10-18 19:35:51 -0400 (Fri, 18 Oct 2024) EndedAt: 2024-10-18 19:36:14 -0400 (Fri, 18 Oct 2024) EllapsedTime: 22.4 seconds RetCode: 0 Status: OK PackageFile: MsDataHub_1.4.0.tgz PackageFileSize: 384.5 KiB