Package: MsDataHub Version: 1.4.0 Maintainer: Laurent Gatto MaintainerEmail: laurent.gatto at uclouvain.be git_url: https://git.bioconductor.org/packages/MsDataHub git_branch: RELEASE_3_19 git_last_commit: 3ced96a git_last_commit_date: 2024-04-30 11:47:59 -0400 (Tue, 30 Apr 2024)