Package: MsCoreUtils Version: 1.16.0 Command: F:\biocbuild\bbs-3.19-bioc\R\bin\R.exe CMD check --no-multiarch --install=check:MsCoreUtils.install-out.txt --library=F:\biocbuild\bbs-3.19-bioc\R\library --no-vignettes --timings MsCoreUtils_1.16.0.tar.gz StartedAt: 2024-06-27 03:55:34 -0400 (Thu, 27 Jun 2024) EndedAt: 2024-06-27 04:00:50 -0400 (Thu, 27 Jun 2024) EllapsedTime: 315.4 seconds RetCode: 0 Status: OK CheckDir: MsCoreUtils.Rcheck Warnings: 0