Package: MsCoreUtils Version: 1.16.1 Command: /Library/Frameworks/R.framework/Resources/bin/R CMD check --install=check:MsCoreUtils.install-out.txt --library=/Library/Frameworks/R.framework/Resources/library --no-vignettes --timings MsCoreUtils_1.16.1.tar.gz StartedAt: 2024-10-18 05:03:22 -0400 (Fri, 18 Oct 2024) EndedAt: 2024-10-18 05:08:12 -0400 (Fri, 18 Oct 2024) EllapsedTime: 290.1 seconds RetCode: 0 Status: OK CheckDir: MsCoreUtils.Rcheck Warnings: 0