Package: MsCoreUtils Version: 1.16.1 Command: rm -rf MsCoreUtils.buildbin-libdir && mkdir MsCoreUtils.buildbin-libdir && /Users/biocbuild/BBS/utils/build-universal.sh MsCoreUtils_1.16.1.tar.gz /Library/Frameworks/R.framework/Resources/bin/R MsCoreUtils.buildbin-libdir StartedAt: 2024-10-18 19:35:47 -0400 (Fri, 18 Oct 2024) EndedAt: 2024-10-18 19:36:00 -0400 (Fri, 18 Oct 2024) EllapsedTime: 13.6 seconds RetCode: 0 Status: OK PackageFile: MsCoreUtils_1.16.1.tgz PackageFileSize: 527.3 KiB