Package: MsCoreUtils Version: 1.16.1 Maintainer: RforMassSpectrometry Package Maintainer MaintainerEmail: maintainer at rformassspectrometry.org git_url: https://git.bioconductor.org/packages/MsCoreUtils git_branch: RELEASE_3_19 git_last_commit: 9573f74 git_last_commit_date: 2024-08-02 07:07:28 -0400 (Fri, 02 Aug 2024)