Package: MsBackendSql Version: 1.4.0 Command: chmod a+r MsBackendSql -R && E:\biocbuild\bbs-3.19-bioc\R\bin\R.exe CMD build --keep-empty-dirs --no-resave-data MsBackendSql StartedAt: 2024-10-16 20:30:30 -0400 (Wed, 16 Oct 2024) EndedAt: 2024-10-16 20:36:00 -0400 (Wed, 16 Oct 2024) EllapsedTime: 329.5 seconds RetCode: 0 Status: OK PackageFile: MsBackendSql_1.4.0.tar.gz PackageFileSize: 336.8 KiB