Package: MsBackendSql Version: 1.4.0 Command: /Library/Frameworks/R.framework/Resources/bin/R CMD build --keep-empty-dirs --no-resave-data MsBackendSql StartedAt: 2024-10-16 21:18:43 -0400 (Wed, 16 Oct 2024) EndedAt: 2024-10-16 21:21:53 -0400 (Wed, 16 Oct 2024) EllapsedTime: 189.9 seconds RetCode: 0 Status: OK PackageFile: MsBackendSql_1.4.0.tar.gz PackageFileSize: 336.4 KiB