Package: MsBackendSql Version: 1.4.0 Command: /Library/Frameworks/R.framework/Resources/bin/R CMD build --keep-empty-dirs --no-resave-data MsBackendSql StartedAt: 2024-10-17 05:07:31 -0400 (Thu, 17 Oct 2024) EndedAt: 2024-10-17 05:09:17 -0400 (Thu, 17 Oct 2024) EllapsedTime: 105.8 seconds RetCode: 0 Status: OK PackageFile: MsBackendSql_1.4.0.tar.gz PackageFileSize: 336.4 KiB