Package: MsBackendSql Version: 1.4.0 Command: rm -rf MsBackendSql.buildbin-libdir && mkdir MsBackendSql.buildbin-libdir && /Users/biocbuild/BBS/utils/build-universal.sh MsBackendSql_1.4.0.tar.gz /Library/Frameworks/R.framework/Resources/bin/R MsBackendSql.buildbin-libdir StartedAt: 2024-10-18 19:35:46 -0400 (Fri, 18 Oct 2024) EndedAt: 2024-10-18 19:36:06 -0400 (Fri, 18 Oct 2024) EllapsedTime: 20.4 seconds RetCode: 0 Status: OK PackageFile: MsBackendSql_1.4.0.tgz PackageFileSize: 600.2 KiB