Package: MsBackendSql Version: 1.4.0 Maintainer: Johannes Rainer MaintainerEmail: Johannes.Rainer at eurac.edu git_url: https://git.bioconductor.org/packages/MsBackendSql git_branch: RELEASE_3_19 git_last_commit: 4b51add git_last_commit_date: 2024-04-30 11:46:42 -0400 (Tue, 30 Apr 2024)