Package: MsBackendRawFileReader Version: 1.10.0 Command: E:\biocbuild\bbs-3.19-bioc\R\bin\R.exe CMD INSTALL MsBackendRawFileReader StartedAt: 2024-10-16 16:15:37 -0400 (Wed, 16 Oct 2024) EndedAt: 2024-10-16 16:16:46 -0400 (Wed, 16 Oct 2024) EllapsedTime: 69.5 seconds RetCode: 0 Status: OK