Package: MsBackendRawFileReader Version: 1.10.0 Command: rm -rf MsBackendRawFileReader.buildbin-libdir && mkdir MsBackendRawFileReader.buildbin-libdir && E:\biocbuild\bbs-3.19-bioc\R\bin\R.exe CMD INSTALL --build --library=MsBackendRawFileReader.buildbin-libdir MsBackendRawFileReader_1.10.0.tar.gz StartedAt: 2024-10-17 08:11:46 -0400 (Thu, 17 Oct 2024) EndedAt: 2024-10-17 08:15:05 -0400 (Thu, 17 Oct 2024) EllapsedTime: 198.4 seconds RetCode: 0 Status: OK PackageFile: MsBackendRawFileReader_1.10.0.zip PackageFileSize: 1.019 MiB