Package: MsBackendRawFileReader Version: 1.10.0 Command: rm -rf MsBackendRawFileReader.buildbin-libdir && mkdir MsBackendRawFileReader.buildbin-libdir && F:\biocbuild\bbs-3.19-bioc\R\bin\R.exe CMD INSTALL --build --library=MsBackendRawFileReader.buildbin-libdir MsBackendRawFileReader_1.10.0.tar.gz StartedAt: 2024-06-27 08:32:59 -0400 (Thu, 27 Jun 2024) EndedAt: 2024-06-27 08:33:16 -0400 (Thu, 27 Jun 2024) EllapsedTime: 17.0 seconds RetCode: 0 Status: OK PackageFile: MsBackendRawFileReader_1.10.0.zip PackageFileSize: 1.019 MiB