Package: MsBackendRawFileReader Version: 1.10.0 Command: /Library/Frameworks/R.framework/Resources/bin/R CMD check --install=check:MsBackendRawFileReader.install-out.txt --library=/Library/Frameworks/R.framework/Resources/library --no-vignettes --timings MsBackendRawFileReader_1.10.0.tar.gz StartedAt: 2024-10-17 09:29:19 -0400 (Thu, 17 Oct 2024) EndedAt: 2024-10-17 09:38:59 -0400 (Thu, 17 Oct 2024) EllapsedTime: 580.8 seconds RetCode: 0 Status: OK CheckDir: MsBackendRawFileReader.Rcheck Warnings: 0