Package: MsBackendRawFileReader Version: 1.10.0 Command: /Library/Frameworks/R.framework/Resources/bin/R CMD check --install=check:MsBackendRawFileReader.install-out.txt --library=/Library/Frameworks/R.framework/Resources/library --no-vignettes --timings MsBackendRawFileReader_1.10.0.tar.gz StartedAt: 2024-10-18 05:02:35 -0400 (Fri, 18 Oct 2024) EndedAt: 2024-10-18 05:06:42 -0400 (Fri, 18 Oct 2024) EllapsedTime: 247.5 seconds RetCode: 0 Status: OK CheckDir: MsBackendRawFileReader.Rcheck Warnings: 0