Package: MsBackendRawFileReader Version: 1.10.0 Command: rm -rf MsBackendRawFileReader.buildbin-libdir && mkdir MsBackendRawFileReader.buildbin-libdir && /Users/biocbuild/BBS/utils/build-universal.sh MsBackendRawFileReader_1.10.0.tar.gz /Library/Frameworks/R.framework/Resources/bin/R MsBackendRawFileReader.buildbin-libdir StartedAt: 2024-10-18 19:35:42 -0400 (Fri, 18 Oct 2024) EndedAt: 2024-10-18 19:35:58 -0400 (Fri, 18 Oct 2024) EllapsedTime: 16.0 seconds RetCode: 0 Status: OK PackageFile: MsBackendRawFileReader_1.10.0.tgz PackageFileSize: 1.245 MiB