Package: MsBackendMsp Version: 1.8.0 Command: /Library/Frameworks/R.framework/Resources/bin/R CMD build --keep-empty-dirs --no-resave-data MsBackendMsp StartedAt: 2024-10-16 21:18:14 -0400 (Wed, 16 Oct 2024) EndedAt: 2024-10-16 21:19:04 -0400 (Wed, 16 Oct 2024) EllapsedTime: 50.0 seconds RetCode: 0 Status: OK PackageFile: MsBackendMsp_1.8.0.tar.gz PackageFileSize: 324.3 KiB