Package: MsBackendMassbank Version: 1.12.0 Command: rm -rf MsBackendMassbank.buildbin-libdir && mkdir MsBackendMassbank.buildbin-libdir && E:\biocbuild\bbs-3.19-bioc\R\bin\R.exe CMD INSTALL --build --library=MsBackendMassbank.buildbin-libdir MsBackendMassbank_1.12.0.tar.gz StartedAt: 2024-10-17 08:11:37 -0400 (Thu, 17 Oct 2024) EndedAt: 2024-10-17 08:12:30 -0400 (Thu, 17 Oct 2024) EllapsedTime: 53.2 seconds RetCode: 0 Status: OK PackageFile: MsBackendMassbank_1.12.0.zip PackageFileSize: 614.2 KiB