Package: MsBackendMassbank Version: 1.12.0 Command: /Library/Frameworks/R.framework/Resources/bin/R CMD INSTALL MsBackendMassbank StartedAt: 2024-06-09 15:15:02 -0400 (Sun, 09 Jun 2024) EndedAt: 2024-06-09 15:15:24 -0400 (Sun, 09 Jun 2024) EllapsedTime: 22.1 seconds RetCode: 0 Status: OK