Package: MsBackendMassbank Version: 1.12.0 Command: /Library/Frameworks/R.framework/Resources/bin/R CMD build --keep-empty-dirs --no-resave-data MsBackendMassbank StartedAt: 2024-10-17 05:06:37 -0400 (Thu, 17 Oct 2024) EndedAt: 2024-10-17 05:07:09 -0400 (Thu, 17 Oct 2024) EllapsedTime: 31.6 seconds RetCode: 0 Status: OK PackageFile: MsBackendMassbank_1.12.0.tar.gz PackageFileSize: 418.3 KiB