Package: MouseFM Version: 1.14.6 Command: chmod a+r MouseFM -R && E:\biocbuild\bbs-3.19-bioc\R\bin\R.exe CMD build --keep-empty-dirs --no-resave-data MouseFM StartedAt: 2024-10-16 20:29:20 -0400 (Wed, 16 Oct 2024) EndedAt: 2024-10-16 20:30:28 -0400 (Wed, 16 Oct 2024) EllapsedTime: 68.0 seconds RetCode: 0 Status: OK PackageFile: MouseFM_1.14.6.tar.gz PackageFileSize: 690.3 KiB