Package: MouseFM Version: 1.14.6 Command: rm -rf MouseFM.buildbin-libdir && mkdir MouseFM.buildbin-libdir && E:\biocbuild\bbs-3.19-bioc\R\bin\R.exe CMD INSTALL --build --library=MouseFM.buildbin-libdir MouseFM_1.14.6.tar.gz StartedAt: 2024-10-17 08:11:13 -0400 (Thu, 17 Oct 2024) EndedAt: 2024-10-17 08:11:36 -0400 (Thu, 17 Oct 2024) EllapsedTime: 22.8 seconds RetCode: 0 Status: OK PackageFile: MouseFM_1.14.6.zip PackageFileSize: 757.2 KiB