Package: MouseFM Version: 1.14.0 Command: F:\biocbuild\bbs-3.19-bioc\R\bin\R.exe CMD INSTALL MouseFM StartedAt: 2024-06-26 16:06:36 -0400 (Wed, 26 Jun 2024) EndedAt: 2024-06-26 16:07:00 -0400 (Wed, 26 Jun 2024) EllapsedTime: 23.9 seconds RetCode: 0 Status: OK