Package: MouseFM Version: 1.14.0 Command: chmod a+r MouseFM -R && F:\biocbuild\bbs-3.19-bioc\R\bin\R.exe CMD build --keep-empty-dirs --no-resave-data MouseFM StartedAt: 2024-06-26 20:15:46 -0400 (Wed, 26 Jun 2024) EndedAt: 2024-06-26 20:17:00 -0400 (Wed, 26 Jun 2024) EllapsedTime: 74.0 seconds RetCode: 0 Status: OK PackageFile: MouseFM_1.14.0.tar.gz PackageFileSize: 690.1 KiB