Package: MouseFM Version: 1.14.0 Command: rm -rf MouseFM.buildbin-libdir && mkdir MouseFM.buildbin-libdir && F:\biocbuild\bbs-3.19-bioc\R\bin\R.exe CMD INSTALL --build --library=MouseFM.buildbin-libdir MouseFM_1.14.0.tar.gz StartedAt: 2024-06-27 08:32:39 -0400 (Thu, 27 Jun 2024) EndedAt: 2024-06-27 08:33:04 -0400 (Thu, 27 Jun 2024) EllapsedTime: 24.6 seconds RetCode: 0 Status: OK PackageFile: MouseFM_1.14.0.zip PackageFileSize: 757 KiB