Package: MouseFM Version: 1.14.0 Command: /Library/Frameworks/R.framework/Resources/bin/R CMD INSTALL MouseFM StartedAt: 2024-06-09 16:07:00 -0400 (Sun, 09 Jun 2024) EndedAt: 2024-06-09 16:07:24 -0400 (Sun, 09 Jun 2024) EllapsedTime: 23.3 seconds RetCode: 0 Status: OK