Package: MouseFM Version: 1.14.0 Command: /Library/Frameworks/R.framework/Resources/bin/R CMD check --install=check:MouseFM.install-out.txt --library=/Library/Frameworks/R.framework/Resources/library --no-vignettes --timings MouseFM_1.14.0.tar.gz StartedAt: 2024-06-10 22:53:49 -0400 (Mon, 10 Jun 2024) EndedAt: 2024-06-10 22:59:44 -0400 (Mon, 10 Jun 2024) EllapsedTime: 355.3 seconds RetCode: 0 Status: OK CheckDir: MouseFM.Rcheck Warnings: 0