Package: MouseFM Version: 1.14.0 Command: /Library/Frameworks/R.framework/Resources/bin/R CMD build --keep-empty-dirs --no-resave-data MouseFM StartedAt: 2024-06-10 01:08:47 -0400 (Mon, 10 Jun 2024) EndedAt: 2024-06-10 01:10:02 -0400 (Mon, 10 Jun 2024) EllapsedTime: 75.1 seconds RetCode: 0 Status: OK PackageFile: MouseFM_1.14.0.tar.gz PackageFileSize: 768 KiB