Package: MouseFM Version: 1.14.6 Command: /Library/Frameworks/R.framework/Resources/bin/R CMD INSTALL MouseFM StartedAt: 2024-10-16 16:58:58 -0400 (Wed, 16 Oct 2024) EndedAt: 2024-10-16 16:59:18 -0400 (Wed, 16 Oct 2024) EllapsedTime: 19.7 seconds RetCode: 0 Status: OK