Package: MouseFM Version: 1.14.6 Command: rm -rf MouseFM.buildbin-libdir && mkdir MouseFM.buildbin-libdir && /Users/biocbuild/BBS/utils/build-universal.sh MouseFM_1.14.6.tar.gz /Library/Frameworks/R.framework/Resources/bin/R MouseFM.buildbin-libdir StartedAt: 2024-10-18 19:34:44 -0400 (Fri, 18 Oct 2024) EndedAt: 2024-10-18 19:35:09 -0400 (Fri, 18 Oct 2024) EllapsedTime: 25.0 seconds RetCode: 0 Status: OK PackageFile: MouseFM_1.14.6.tgz PackageFileSize: 830.1 KiB