Package: MotifDb Version: 1.46.0 Command: E:\biocbuild\bbs-3.19-bioc\R\bin\R.exe CMD INSTALL MotifDb StartedAt: 2024-10-16 16:27:22 -0400 (Wed, 16 Oct 2024) EndedAt: 2024-10-16 16:28:21 -0400 (Wed, 16 Oct 2024) EllapsedTime: 59.1 seconds RetCode: 0 Status: OK