Package: MotifDb Version: 1.46.0 Command: rm -rf MotifDb.buildbin-libdir && mkdir MotifDb.buildbin-libdir && F:\biocbuild\bbs-3.19-bioc\R\bin\R.exe CMD INSTALL --build --library=MotifDb.buildbin-libdir MotifDb_1.46.0.tar.gz StartedAt: 2024-06-27 08:32:31 -0400 (Thu, 27 Jun 2024) EndedAt: 2024-06-27 08:33:38 -0400 (Thu, 27 Jun 2024) EllapsedTime: 67.1 seconds RetCode: 0 Status: OK PackageFile: MotifDb_1.46.0.zip PackageFileSize: 3.529 MiB