Package: MotifDb Version: 1.46.0 Command: /home/biocbuild/bbs-3.19-bioc/R/bin/R CMD build --keep-empty-dirs --no-resave-data MotifDb StartedAt: 2024-10-16 19:36:48 -0400 (Wed, 16 Oct 2024) EndedAt: 2024-10-16 19:37:46 -0400 (Wed, 16 Oct 2024) EllapsedTime: 58.1 seconds RetCode: 0 Status: OK PackageFile: MotifDb_1.46.0.tar.gz PackageFileSize: 3.226 MiB