Package: MotifDb Version: 1.46.0 Command: /Library/Frameworks/R.framework/Resources/bin/R CMD check --install=check:MotifDb.install-out.txt --library=/Library/Frameworks/R.framework/Resources/library --no-vignettes --timings MotifDb_1.46.0.tar.gz StartedAt: 2024-10-17 09:16:32 -0400 (Thu, 17 Oct 2024) EndedAt: 2024-10-17 09:40:01 -0400 (Thu, 17 Oct 2024) EllapsedTime: 1408.9 seconds RetCode: 0 Status: WARNINGS CheckDir: MotifDb.Rcheck Warnings: 2