Package: MotifDb Version: 1.46.0 Command: /Library/Frameworks/R.framework/Resources/bin/R CMD build --keep-empty-dirs --no-resave-data MotifDb StartedAt: 2024-06-10 01:06:08 -0400 (Mon, 10 Jun 2024) EndedAt: 2024-06-10 01:07:27 -0400 (Mon, 10 Jun 2024) EllapsedTime: 79.5 seconds RetCode: 0 Status: OK PackageFile: MotifDb_1.46.0.tar.gz PackageFileSize: 3.295 MiB