Package: MotifDb Version: 1.46.0 Command: /Library/Frameworks/R.framework/Resources/bin/R CMD INSTALL MotifDb StartedAt: 2024-10-16 16:34:16 -0400 (Wed, 16 Oct 2024) EndedAt: 2024-10-16 16:35:05 -0400 (Wed, 16 Oct 2024) EllapsedTime: 48.7 seconds RetCode: 0 Status: OK