Package: MotifDb Version: 1.46.0 Command: /Library/Frameworks/R.framework/Resources/bin/R CMD build --keep-empty-dirs --no-resave-data MotifDb StartedAt: 2024-10-17 05:02:49 -0400 (Thu, 17 Oct 2024) EndedAt: 2024-10-17 05:04:02 -0400 (Thu, 17 Oct 2024) EllapsedTime: 73.3 seconds RetCode: 0 Status: OK PackageFile: MotifDb_1.46.0.tar.gz PackageFileSize: 3.295 MiB