Package: Motif2Site Version: 1.8.0 Command: /Library/Frameworks/R.framework/Resources/bin/R CMD build --keep-empty-dirs --no-resave-data Motif2Site StartedAt: 2024-10-16 21:12:06 -0400 (Wed, 16 Oct 2024) EndedAt: 2024-10-16 21:18:43 -0400 (Wed, 16 Oct 2024) EllapsedTime: 397.3 seconds RetCode: 0 Status: OK PackageFile: Motif2Site_1.8.0.tar.gz PackageFileSize: 1.414 MiB