Package: Motif2Site Version: 1.8.0 Command: /home/biocbuild/R/R-beta-2024-04-15_r86425/bin/R CMD check --install=check:Motif2Site.install-out.txt --library=/home/biocbuild/R/R-beta-2024-04-15_r86425/site-library --no-vignettes --timings Motif2Site_1.8.0.tar.gz StartedAt: 2024-05-09 09:41:11 -0000 (Thu, 09 May 2024) EndedAt: 2024-05-09 09:53:03 -0000 (Thu, 09 May 2024) EllapsedTime: 711.2 seconds RetCode: 0 Status: OK CheckDir: Motif2Site.Rcheck Warnings: 0