Package: Motif2Site Version: 1.8.0 Command: /home/biocbuild/R/R-beta-2024-04-15_r86425/bin/R CMD build --keep-empty-dirs --no-resave-data Motif2Site StartedAt: 2024-05-09 01:51:17 -0000 (Thu, 09 May 2024) EndedAt: 2024-05-09 01:55:53 -0000 (Thu, 09 May 2024) EllapsedTime: 276.4 seconds RetCode: 0 Status: OK PackageFile: Motif2Site_1.8.0.tar.gz PackageFileSize: 1.371 MiB