Package: Motif2Site Version: 1.8.0 Maintainer: Peyman Zarrineh MaintainerEmail: peyman.zarrineh at manchester.ac.uk git_url: https://git.bioconductor.org/packages/Motif2Site git_branch: RELEASE_3_19 git_last_commit: 0e322d9 git_last_commit_date: 2024-04-30 11:40:23 -0400 (Tue, 30 Apr 2024)