Package: MoonlightR Version: 1.30.0 Command: /Library/Frameworks/R.framework/Resources/bin/R CMD check --install=check:MoonlightR.install-out.txt --library=/Library/Frameworks/R.framework/Resources/library --no-vignettes --timings MoonlightR_1.30.0.tar.gz StartedAt: 2024-10-17 09:08:40 -0400 (Thu, 17 Oct 2024) EndedAt: 2024-10-17 09:40:48 -0400 (Thu, 17 Oct 2024) EllapsedTime: 1928.0 seconds RetCode: 0 Status: OK CheckDir: MoonlightR.Rcheck Warnings: 0